Workbook

Sheet Resumen y Alertas
A1: PANEL DE CONTROL Y ALERTAS DE ASISTENCIA
A2: Escuela Primaria Benito Juárez | Ciclo Escolar 2026-2027 | Grado: 1º Grupo: A
A4: TOTAL ALUMNOS | D4: % ASISTENCIA PROMEDIO | G4: ALUMNOS EN RIESGO (<85%)
A5: =COUNTA('Lista de Alumnos'!A5:A34) -> 30 | D5: =AVERAGE('Asistencia Mensual'!AL5:AL34) -> 0.97191198 | G5: =COUNTIF('Asistencia Mensual'!AL5:AL34, "<0.85") -> 1
A8: RESUMEN INDIVIDUAL Y ESTATUS DE RIESGO | I8: SIMBOLOGÍA Y CÓDIGOS
A10: ID Alumno | B10: Nombre Completo del Alumno | C10: % Asistencia | D10: Días Asistidos (P+R) | E10: Total Faltas (F) | F10: Justificadas (J) | G10: Estatus / Alerta | I10: P | J10: Presente
A11: ='Asistencia Mensual'!A5 -> ALU-001 | B11: ='Asistencia Mensual'!B5 -> García López Sofía | C11: ='Asistencia Mensual'!AL5 -> 1 | D11: ='Asistencia Mensual'!AH5+'Asistencia Mensual'!AI5 -> 22 | E11: ='Asistencia Mensual'!AJ5 -> 0 | F11: ='Asistencia Mensual'!AK5 -> 0 | G11: =IF(C11<0.85, "⚠️ RIESGO - REVISAR", IF(C11>=0.95, "Satisfecho - Excelente", "Regular")) -> Satisfecho - Excelente | I11: R | J11: Retardo
A12: ='Asistencia Mensual'!A6 -> ALU-002 | B12: ='Asistencia Mensual'!B6 -> Hernández Martínez Mateo | C12: ='Asistencia Mensual'!AL6 -> 0.95238095 | D12: ='Asistencia Mensual'!AH6+'Asistencia Mensual'!AI6 -> 20 | E12: ='Asistencia Mensual'!AJ6 -> 1 | F12: ='Asistencia Mensual'!AK6 -> 1 | G12: =IF(C12<0.85, "⚠️ RIESGO - REVISAR", IF(C12>=0.95, "Satisfecho - Excelente", "Regular")) -> Satisfecho - Excelente | I12: F | J12: Falta / Inasistencia
A13: ='Asistencia Mensual'!A7 -> ALU-003 | B13: ='Asistencia Mensual'!B7 -> Rodríguez Sánchez Valentina | C13: ='Asistencia Mensual'!AL7 -> 0.81818182 | D13: ='Asistencia Mensual'!AH7+'Asistencia Mensual'!AI7 -> 18 | E13: ='Asistencia Mensual'!AJ7 -> 4 | F13: ='Asistencia Mensual'!AK7 -> 0 | G13: =IF(C13<0.85, "⚠️ RIESGO - REVISAR", IF(C13>=0.95, "Satisfecho - Excelente", "Regular")) -> ⚠️ RIESGO - REVISAR | I13: J | J13: Falta Justificada
A14: ='Asistencia Mensual'!A8 -> ALU-004 | B14: ='Asistencia Mensual'!B8 -> Martínez Gómez Santiago | C14: ='Asistencia Mensual'!AL8 -> 0.95238095 | D14: ='Asistencia Mensual'!AH8+'Asistencia Mensual'!AI8 -> 20 | E14: ='Asistencia Mensual'!AJ8 -> 1 | F14: ='Asistencia Mensual'!AK8 -> 1 | G14: =IF(C14<0.85, "⚠️ RIESGO - REVISAR", IF(C14>=0.95, "Satisfecho - Excelente", "Regular")) -> Satisfecho - Excelente | I14: - | J14: Día No Hábil / Fin de Semana
A15: ='Asistencia Mensual'!A9 -> ALU-005 | B15: ='Asistencia Mensual'!B9 -> López Pérez Camila | C15: ='Asistencia Mensual'!AL9 -> 0.9047619 | D15: ='Asistencia Mensual'!AH9+'Asistencia Mensual'!AI9 -> 19 | E15: ='Asistencia Mensual'!AJ9 -> 2 | F15: ='Asistencia Mensual'!AK9 -> 1 | G15: =IF(C15<0.85, "⚠️ RIESGO - REVISAR", IF(C15>=0.95, "Satisfecho - Excelente", "Regular")) -> Regular
A16: ='Asistencia Mensual'!A10 -> ALU-006 | B16: ='Asistencia Mensual'!B10 -> González Díaz Leonardo | C16: ='Asistencia Mensual'!AL10 -> 1 | D16: ='Asistencia Mensual'!AH10+'Asistencia Mensual'!AI10 -> 22 | E16: ='Asistencia Mensual'!AJ10 -> 0 | F16: ='Asistencia Mensual'!AK10 -> 0 | G16: =IF(C16<0.85, "⚠️ RIESGO - REVISAR", IF(C16>=0.95, "Satisfecho - Excelente", "Regular")) -> Satisfecho - Excelente
A17: ='Asistencia Mensual'!A11 -> ALU-007 | B17: ='Asistencia Mensual'!B11 -> Pérez Torres Mariana | C17: ='Asistencia Mensual'!AL11 -> 0.95238095 | D17: ='Asistencia Mensual'!AH11+'Asistencia Mensual'!AI11 -> 20 | E17: ='Asistencia Mensual'!AJ11 -> 1 | F17: ='Asistencia Mensual'!AK11 -> 1 | G17: =IF(C17<0.85, "⚠️ RIESGO - REVISAR", IF(C17>=0.95, "Satisfecho - Excelente", "Regular")) -> Satisfecho - Excelente
A18: ='Asistencia Mensual'!A12 -> ALU-008 | B18: ='Asistencia Mensual'!B12 -> Sánchez Flores Sebastian | C18: ='Asistencia Mensual'!AL12 -> 0.95454545 | D18: ='Asistencia Mensual'!AH12+'Asistencia Mensual'!AI12 -> 21 | E18: ='Asistencia Mensual'!AJ12 -> 1 | F18: ='Asistencia Mensual'!AK12 -> 0 | G18: =IF(C18<0.85, "⚠️ RIESGO - REVISAR", IF(C18>=0.95, "Satisfecho - Excelente", "Regular")) -> Satisfecho - Excelente
A19: ='Asistencia Mensual'!A13 -> ALU-009 | B19: ='Asistencia Mensual'!B13 -> Ramírez Vásquez Lucía | C19: ='Asistencia Mensual'!AL13 -> 0.95454545 | D19: ='Asistencia Mensual'!AH13+'Asistencia Mensual'!AI13 -> 21 | E19: ='Asistencia Mensual'!AJ13 -> 1 | F19: ='Asistencia Mensual'!AK13 -> 0 | G19: =IF(C19<0.85, "⚠️ RIESGO - REVISAR", IF(C19>=0.95, "Satisfecho - Excelente", "Regular")) -> Satisfecho - Excelente
A20: ='Asistencia Mensual'!A14 -> ALU-010 | B20: ='Asistencia Mensual'!B14 -> Cruz Mendoza Diego | C20: ='Asistencia Mensual'!AL14 -> 0.85 | D20: ='Asistencia Mensual'!AH14+'Asistencia Mensual'!AI14 -> 17 | E20: ='Asistencia Mensual'!AJ14 -> 3 | F20: ='Asistencia Mensual'!AK14 -> 2 | G20: =IF(C20<0.85, "⚠️ RIESGO - REVISAR", IF(C20>=0.95, "Satisfecho - Excelente", "Regular")) -> Regular
A21: ='Asistencia Mensual'!A15 -> ALU-011 | B21: ='Asistencia Mensual'!B15 -> Flores Morales Ximena | C21: ='Asistencia Mensual'!AL15 -> 1 | D21: ='Asistencia Mensual'!AH15+'Asistencia Mensual'!AI15 -> 20 | E21: ='Asistencia Mensual'!AJ15 -> 0 | F21: ='Asistencia Mensual'!AK15 -> 2 | G21: =IF(C21<0.85, "⚠️ RIESGO - REVISAR", IF(C21>=0.95, "Satisfecho - Excelente", "Regular")) -> Satisfecho - Excelente
A22: ='Asistencia Mensual'!A16 -> ALU-012 | B22: ='Asistencia Mensual'!B16 -> Gómez Reyes Daniel | C22: ='Asistencia Mensual'!AL16 -> 0.90909091 | D22: ='Asistencia Mensual'!AH16+'Asistencia Mensual'!AI16 -> 20 | E22: ='Asistencia Mensual'!AJ16 -> 2 | F22: ='Asistencia Mensual'!AK16 -> 0 | G22: =IF(C22<0.85, "⚠️ RIESGO - REVISAR", IF(C22>=0.95, "Satisfecho - Excelente", "Regular")) -> Regular
A23: ='Asistencia Mensual'!A17 -> ALU-013 | B23: ='Asistencia Mensual'!B17 -> Morales Jiménez María José | C23: ='Asistencia Mensual'!AL17 -> 0.95454545 | D23: ='Asistencia Mensual'!AH17+'Asistencia Mensual'!AI17 -> 21 | E23: ='Asistencia Mensual'!AJ17 -> 1 | F23: ='Asistencia Mensual'!AK17 -> 0 | G23: =IF(C23<0.85, "⚠️ RIESGO - REVISAR", IF(C23>=0.95, "Satisfecho - Excelente", "Regular")) -> Satisfecho - Excelente
A24: ='Asistencia Mensual'!A18 -> ALU-014 | B24: ='Asistencia Mensual'!B18 -> Vásquez Ortiz Alexander | C24: ='Asistencia Mensual'!AL18 -> 1 | D24: ='Asistencia Mensual'!AH18+'Asistencia Mensual'!AI18 -> 22 | E24: ='Asistencia Mensual'!AJ18 -> 0 | F24: ='Asistencia Mensual'!AK18 -> 0 | G24: =IF(C24<0.85, "⚠️ RIESGO - REVISAR", IF(C24>=0.95, "Satisfecho - Excelente", "Regular")) -> Satisfecho - Excelente
A25: ='Asistencia Mensual'!A19 -> ALU-015 | B25: ='Asistencia Mensual'!B19 -> Reyes Gutiérrez Victoria | C25: ='Asistencia Mensual'!AL19 -> 0.95454545 | D25: ='Asistencia Mensual'!AH19+'Asistencia Mensual'!AI19 -> 21 | E25: ='Asistencia Mensual'!AJ19 -> 1 | F25: ='Asistencia Mensual'!AK19 -> 0 | G25: =IF(C25<0.85, "⚠️ RIESGO - REVISAR", IF(C25>=0.95, "Satisfecho - Excelente", "Regular")) -> Satisfecho - Excelente
A26: ='Asistencia Mensual'!A20 -> ALU-016 | B26: ='Asistencia Mensual'!B20 | C26: ='Asistencia Mensual'!AL20 -> 1 | D26: ='Asistencia Mensual'!AH20+'Asistencia Mensual'!AI20 -> 22 | E26: ='Asistencia Mensual'!AJ20 -> 0 | F26: ='Asistencia Mensual'!AK20 -> 0 | G26: =IF(C26<0.85, "⚠️ RIESGO - REVISAR", IF(C26>=0.95, "Satisfecho - Excelente", "Regular")) -> Satisfecho - Excelente
... A40: ='Asistencia Mensual'!A34 -> ALU-030 | B40: ='Asistencia Mensual'!B34 | C40: ='Asistencia Mensual'!AL34 -> 1 | D40: ='Asistencia Mensual'!AH34+'Asistencia Mensual'!AI34 -> 22 | E40: ='Asistencia Mensual'!AJ34 -> 0 | F40: ='Asistencia Mensual'!AK34 -> 0 | G40: =IF(C40<0.85, "⚠️ RIESGO - REVISAR", IF(C40>=0.95, "Satisfecho - Excelente", "Regular")) -> Satisfecho - Excelente

Sheet Asistencia Mensual
A1: CONTROL DIARIO DE ASISTENCIA - MES DE OCTUBRE
A2: Indicaciones: Seleccione P (Presente), F (Falta), R (Retardo) o J (Justificada) de la lista desplegable en cada día.
A4: ID Alumno | B4: Nombre Completo | C4: 1 | D4: 2 | E4: 3 | F4: 4 | G4: 5 | H4: 6 | I4: 7 | J4: 8 | K4: 9 | L4: 10 | M4: 11 | N4: 12 | O4: 13 | P4: 14 | Q4: 15 | R4: 16 | S4: 17 | T4: 18 | U4: 19 | V4: 20 | W4: 21 | X4: 22 | Y4: 23 | Z4: 24 | AA4: 25 | AB4: 26 | AC4: 27 | AD4: 28 | AE4: 29 | AF4: 30 | AG4: 31 | AH4: Presentes (P) | AI4: Retardos (R) | AJ4: Faltas (F) | AK4: Justificadas (J) | AL4: % Asistencia
A5: ALU-001 | B5: ='Lista de Alumnos'!B5&" "&'Lista de Alumnos'!C5&" "&'Lista de Alumnos'!D5 -> García López Sofía | C5: P | D5: P | E5: - | F5: - | G5: P | H5: P | I5: P | J5: P | K5: R | L5: - | M5: - | N5: P | O5: P | P5: P | Q5: P | R5: P | S5: - | T5: - | U5: P | V5: P | W5: P | X5: P | Y5: P | Z5: - | AA5: - | AB5: P | AC5: P | AD5: P | AE5: P | AF5: P | AG5: - | AH5: =COUNTIF(C5:AG5, "P") -> 21 | AI5: =COUNTIF(C5:AG5, "R") -> 1 | AJ5: =COUNTIF(C5:AG5, "F") -> 0 | AK5: =COUNTIF(C5:AG5, "J") -> 0 | AL5: =IFERROR((AH5+AI5)/(COUNTIF(C5:AG5,"P")+COUNTIF(C5:AG5,"R")+COUNTIF(C5:AG5,"F")), 1) -> 1
A6: ALU-002 | B6: ='Lista de Alumnos'!B6&" "&'Lista de Alumnos'!C6&" "&'Lista de Alumnos'!D6 -> Hernández Martínez Mateo | C6: P | D6: P | E6: - | F6: - | G6: J | H6: P | I6: P | J6: P | K6: P | L6: - | M6: - | N6: P | O6: P | P6: P | Q6: P | R6: F | S6: - | T6: - | U6: P | V6: P | W6: P | X6: P | Y6: P | Z6: - | AA6: - | AB6: P | AC6: P | AD6: P | AE6: P | AF6: P | AG6: - | AH6: =COUNTIF(C6:AG6, "P") -> 20 | AI6: =COUNTIF(C6:AG6, "R") -> 0 | AJ6: =COUNTIF(C6:AG6, "F") -> 1 | AK6: =COUNTIF(C6:AG6, "J") -> 1 | AL6: =IFERROR((AH6+AI6)/(COUNTIF(C6:AG6,"P")+COUNTIF(C6:AG6,"R")+COUNTIF(C6:AG6,"F")), 1) -> 0.95238095
A7: ALU-003 | B7: ='Lista de Alumnos'!B7&" "&'Lista de Alumnos'!C7&" "&'Lista de Alumnos'!D7 -> Rodríguez Sánchez Valentina | C7: P | D7: P | E7: - | F7: - | G7: P | H7: P | I7: P | J7: P | K7: P | L7: - | M7: - | N7: P | O7: P | P7: R | Q7: P | R7: P | S7: - | T7: - | U7: P | V7: F | W7: P | X7: P | Y7: R | Z7: - | AA7: - | AB7: P | AC7: P | AD7: F | AE7: F | AF7: F | AG7: - | AH7: =COUNTIF(C7:AG7, "P") -> 16 | AI7: =COUNTIF(C7:AG7, "R") -> 2 | AJ7: =COUNTIF(C7:AG7, "F") -> 4 | AK7: =COUNTIF(C7:AG7, "J") -> 0 | AL7: =IFERROR((AH7+AI7)/(COUNTIF(C7:AG7,"P")+COUNTIF(C7:AG7,"R")+COUNTIF(C7:AG7,"F")), 1) -> 0.81818182
A8: ALU-004 | B8: ='Lista de Alumnos'!B8&" "&'Lista de Alumnos'!C8&" "&'Lista de Alumnos'!D8 -> Martínez Gómez Santiago | C8: P | D8: P | E8: - | F8: - | G8: P | H8: P | I8: P | J8: J | K8: P | L8: - | M8: - | N8: P | O8: P | P8: P | Q8: R | R8: P | S8: - | T8: - | U8: P | V8: P | W8: P | X8: P | Y8: P | Z8: - | AA8: - | AB8: R | AC8: P | AD8: P | AE8: F | AF8: P | AG8: - | AH8: =COUNTIF(C8:AG8, "P") -> 18 | AI8: =COUNTIF(C8:AG8, "R") -> 2 | AJ8: =COUNTIF(C8:AG8, "F") -> 1 | AK8: =COUNTIF(C8:AG8, "J") -> 1 | AL8: =IFERROR((AH8+AI8)/(COUNTIF(C8:AG8,"P")+COUNTIF(C8:AG8,"R")+COUNTIF(C8:AG8,"F")), 1) -> 0.95238095
A9: ALU-005 | B9: ='Lista de Alumnos'!B9&" "&'Lista de Alumnos'!C9&" "&'Lista de Alumnos'!D9 -> López Pérez Camila | C9: P | D9: P | E9: - | F9: - | G9: P | H9: P | I9: P | J9: P | K9: P | L9: - | M9: - | N9: P | O9: F | P9: P | Q9: F | R9: P | S9: - | T9: - | U9: P | V9: P | W9: P | X9: P | Y9: P | Z9: - | AA9: - | AB9: P | AC9: P | AD9: P | AE9: P | AF9: J | AG9: - | AH9: =COUNTIF(C9:AG9, "P") -> 19 | AI9: =COUNTIF(C9:AG9, "R") -> 0 | AJ9: =COUNTIF(C9:AG9, "F") -> 2 | AK9: =COUNTIF(C9:AG9, "J") -> 1 | AL9: =IFERROR((AH9+AI9)/(COUNTIF(C9:AG9,"P")+COUNTIF(C9:AG9,"R")+COUNTIF(C9:AG9,"F")), 1) -> 0.9047619
A10: ALU-006 | B10: ='Lista de Alumnos'!B10&" "&'Lista de Alumnos'!C10&" "&'Lista de Alumnos'!D10 -> González Díaz Leonardo | C10: P | D10: P | E10: - | F10: - | G10: P | H10: P | I10: R | J10: P | K10: P | L10: - | M10: - | N10: P | O10: P | P10: P | Q10: P | R10: P | S10: - | T10: - | U10: P | V10: P | W10: P | X10: P | Y10: P | Z10: - | AA10: - | AB10: R | AC10: P | AD10: P | AE10: P | AF10: P | AG10: - | AH10: =COUNTIF(C10:AG10, "P") -> 20 | AI10: =COUNTIF(C10:AG10, "R") -> 2 | AJ10: =COUNTIF(C10:AG10, "F") -> 0 | AK10: =COUNTIF(C10:AG10, "J") -> 0 | AL10: =IFERROR((AH10+AI10)/(COUNTIF(C10:AG10,"P")+COUNTIF(C10:AG10,"R")+COUNTIF(C10:AG10,"F")), 1) -> 1
A11: ALU-007 | B11: ='Lista de Alumnos'!B11&" "&'Lista de Alumnos'!C11&" "&'Lista de Alumnos'!D11 -> Pérez Torres Mariana | C11: P | D11: J | E11: - | F11: - | G11: P | H11: P | I11: P | J11: P | K11: P | L11: - | M11: - | N11: P | O11: P | P11: P | Q11: P | R11: P | S11: - | T11: - | U11: P | V11: P | W11: P | X11: P | Y11: P | Z11: - | AA11: - | AB11: P | AC11: F | AD11: P | AE11: P | AF11: P | AG11: - | AH11: =COUNTIF(C11:AG11, "P") -> 20 | AI11: =COUNTIF(C11:AG11, "R") -> 0 | AJ11: =COUNTIF(C11:AG11, "F") -> 1 | AK11: =COUNTIF(C11:AG11, "J") -> 1 | AL11: =IFERROR((AH11+AI11)/(COUNTIF(C11:AG11,"P")+COUNTIF(C11:AG11,"R")+COUNTIF(C11:AG11,"F")), 1) -> 0.95238095
A12: ALU-008 | B12: ='Lista de Alumnos'!B12&" "&'Lista de Alumnos'!C12&" "&'Lista de Alumnos'!D12 -> Sánchez Flores Sebastian | C12: R | D12: R | E12: - | F12: - | G12: R | H12: P | I12: R | J12: R | K12: F | L12: - | M12: - | N12: P | O12: R | P12: P | Q12: P | R12: R | S12: - | T12: - | U12: R | V12: P | W12: R | X12: R | Y12: P | Z12: - | AA12: - | AB12: P | AC12: P | AD12: P | AE12: P | AF12: R | AG12: - | AH12: =COUNTIF(C12:AG12, "P") -> 10 | AI12: =COUNTIF(C12:AG12, "R") -> 11 | AJ12: =COUNTIF(C12:AG12, "F") -> 1 | AK12: =COUNTIF(C12:AG12, "J") -> 0 | AL12: =IFERROR((AH12+AI12)/(COUNTIF(C12:AG12,"P")+COUNTIF(C12:AG12,"R")+COUNTIF(C12:AG12,"F")), 1) -> 0.95454545
A13: ALU-009 | B13: ='Lista de Alumnos'!B13&" "&'Lista de Alumnos'!C13&" "&'Lista de Alumnos'!D13 -> Ramírez Vásquez Lucía | C13: P | D13: P | E13: - | F13: - | G13: P | H13: P | I13: P | J13: P | K13: F | L13: - | M13: - | N13: P | O13: P | P13: P | Q13: P | R13: P | S13: - | T13: - | U13: P | V13: P | W13: P | X13: P | Y13: P | Z13: - | AA13: - | AB13: R | AC13: P | AD13: P | AE13: P | AF13: P | AG13: - | AH13: =COUNTIF(C13:AG13, "P") -> 20 | AI13: =COUNTIF(C13:AG13, "R") -> 1 | AJ13: =COUNTIF(C13:AG13, "F") -> 1 | AK13: =COUNTIF(C13:AG13, "J") -> 0 | AL13: =IFERROR((AH13+AI13)/(COUNTIF(C13:AG13,"P")+COUNTIF(C13:AG13,"R")+COUNTIF(C13:AG13,"F")), 1) -> 0.95454545
A14: ALU-010 | B14: ='Lista de Alumnos'!B14&" "&'Lista de Alumnos'!C14&" "&'Lista de Alumnos'!D14 -> Cruz Mendoza Diego | C14: F | D14: P | E14: - | F14: - | G14: J | H14: R | I14: P | J14: P | K14: P | L14: - | M14: - | N14: P | O14: P | P14: P | Q14: P | R14: F | S14: - | T14: - | U14: P | V14: P | W14: P | X14: P | Y14: J | Z14: - | AA14: - | AB14: F | AC14: P | AD14: P | AE14: P | AF14: P | AG14: - | AH14: =COUNTIF(C14:AG14, "P") -> 16 | AI14: =COUNTIF(C14:AG14, "R") -> 1 | AJ14: =COUNTIF(C14:AG14, "F") -> 3 | AK14: =COUNTIF(C14:AG14, "J") -> 2 | AL14: =IFERROR((AH14+AI14)/(COUNTIF(C14:AG14,"P")+COUNTIF(C14:AG14,"R")+COUNTIF(C14:AG14,"F")), 1) -> 0.85
A15: ALU-011 | B15: ='Lista de Alumnos'!B15&" "&'Lista de Alumnos'!C15&" "&'Lista de Alumnos'!D15 -> Flores Morales Ximena | C15: J | D15: P | E15: - | F15: - | G15: P | H15: P | I15: P | J15: P | K15: P | L15: - | M15: - | N15: P | O15: P | P15: J | Q15: P | R15: P | S15: - | T15: - | U15: P | V15: P | W15: P | X15: P | Y15: R | Z15: - | AA15: - | AB15: P | AC15: P | AD15: P | AE15: P | AF15: P | AG15: - | AH15: =COUNTIF(C15:AG15, "P") -> 19 | AI15: =COUNTIF(C15:AG15, "R") -> 1 | AJ15: =COUNTIF(C15:AG15, "F") -> 0 | AK15: =COUNTIF(C15:AG15, "J") -> 2 | AL15: =IFERROR((AH15+AI15)/(COUNTIF(C15:AG15,"P")+COUNTIF(C15:AG15,"R")+COUNTIF(C15:AG15,"F")), 1) -> 1
A16: ALU-012 | B16: ='Lista de Alumnos'!B16&" "&'Lista de Alumnos'!C16&" "&'Lista de Alumnos'!D16 -> Gómez Reyes Daniel | C16: P | D16: R | E16: - | F16: - | G16: P | H16: P | I16: P | J16: P | K16: P | L16: - | M16: - | N16: P | O16: P | P16: P | Q16: P | R16: P | S16: - | T16: - | U16: F | V16: F | W16: P | X16: P | Y16: P | Z16: - | AA16: - | AB16: R | AC16: R | AD16: P | AE16: P | AF16: P | AG16: - | AH16: =COUNTIF(C16:AG16, "P") -> 17 | AI16: =COUNTIF(C16:AG16, "R") -> 3 | AJ16: =COUNTIF(C16:AG16, "F") -> 2 | AK16: =COUNTIF(C16:AG16, "J") -> 0 | AL16: =IFERROR((AH16+AI16)/(COUNTIF(C16:AG16,"P")+COUNTIF(C16:AG16,"R")+COUNTIF(C16:AG16,"F")), 1) -> 0.90909091
... A34: ALU-030 | B34: ='Lista de Alumnos'!B34&" "&'Lista de Alumnos'!C34&" "&'Lista de Alumnos'!D34 | C34: P | D34: P | E34: - | F34: - | G34: P | H34: P | I34: P | J34: P | K34: P | L34: - | M34: - | N34: P | O34: P | P34: P | Q34: P | R34: P | S34: - | T34: - | U34: P | V34: P | W34: P | X34: P | Y34: P | Z34: - | AA34: - | AB34: P | AC34: P | AD34: P | AE34: P | AF34: P | AG34: - | AH34: =COUNTIF(C34:AG34, "P") -> 22 | AI34: =COUNTIF(C34:AG34, "R") -> 0 | AJ34: =COUNTIF(C34:AG34, "F") -> 0 | AK34: =COUNTIF(C34:AG34, "J") -> 0 | AL34: =IFERROR((AH34+AI34)/(COUNTIF(C34:AG34,"P")+COUNTIF(C34:AG34,"R")+COUNTIF(C34:AG34,"F")), 1) -> 1

Sheet Lista de Alumnos
A1: CONTROL DE ALUMNOS - DATOS GENERALES
A2: Generado: 2026-10-08 | Plantilla de Registro Escolar v1.0
A4: ID Alumno | B4: Apellido Paterno | C4: Apellido Materno | D4: Nombre(s) | E4: Grado y Grupo | F4: Nombre del Tutor | G4: Teléfono Tutor | H4: Estatus
A5: ALU-001 | B5: García | C5: López | D5: Sofía | E5: 1º A
A6: ALU-002 | B6: Hernández | C6: Martínez | D6: Mateo | E6: 1º A
A7: ALU-003 | B7: Rodríguez | C7: Sánchez | D7: Valentina | E7: 1º A
A8: ALU-004 | B8: Martínez | C8: Gómez | D8: Santiago | E8: 1º A
A9: ALU-005 | B9: López | C9: Pérez | D9: Camila | E9: 1º A
A10: ALU-006 | B10: González | C10: Díaz | D10: Leonardo | E10: 1º A
A11: ALU-007 | B11: Pérez | C11: Torres | D11: Mariana | E11: 1º A
A12: ALU-008 | B12: Sánchez | C12: Flores | D12: Sebastian | E12: 1º A
A13: ALU-009 | B13: Ramírez | C13: Vásquez | D13: Lucía | E13: 1º A
A14: ALU-010 | B14: Cruz | C14: Mendoza | D14: Diego | E14: 1º A
A15: ALU-011 | B15: Flores | C15: Morales | D15: Ximena | E15: 1º A
A16: ALU-012 | B16: Gómez | C16: Reyes | D16: Daniel | E16: 1º A
... A19: ALU-015 | B19: Reyes | C19: Gutiérrez | D19: Victoria | E19: 1º A
A20: ALU-016 | E20: 1º A
A21: ALU-017 | E21: 1º A
A22: ALU-018 | E22: 1º A
A23: ALU-019 | E23: 1º A
A24: ALU-020 | E24: 1º A
A25: ALU-021 | E25: 1º A
A26: ALU-022 | E26: 1º A
A27: ALU-023 | E27: 1º A
A28: ALU-024 | E28: 1º A
A29: ALU-025 | E29: 1º A
A30: ALU-026 | E30: 1º A
A31: ALU-027 | E31: 1º A
... A34: ALU-030 | E34: 1º A
